BEGIN:VCALENDAR
VERSION:2.0
PRODID:-//Allentown Band - ECPv6.15.18//NONSGML v1.0//EN
CALSCALE:GREGORIAN
METHOD:PUBLISH
X-WR-CALNAME:Allentown Band
X-ORIGINAL-URL:https://allentownband.com
X-WR-CALDESC:Events for Allentown Band
REFRESH-INTERVAL;VALUE=DURATION:PT1H
X-Robots-Tag:noindex
X-PUBLISHED-TTL:PT1H
BEGIN:VTIMEZONE
TZID:America/New_York
BEGIN:DAYLIGHT
TZOFFSETFROM:-0500
TZOFFSETTO:-0400
TZNAME:EDT
DTSTART:20250309T070000
END:DAYLIGHT
BEGIN:STANDARD
TZOFFSETFROM:-0400
TZOFFSETTO:-0500
TZNAME:EST
DTSTART:20251102T060000
END:STANDARD
BEGIN:DAYLIGHT
TZOFFSETFROM:-0500
TZOFFSETTO:-0400
TZNAME:EDT
DTSTART:20260308T070000
END:DAYLIGHT
BEGIN:STANDARD
TZOFFSETFROM:-0400
TZOFFSETTO:-0500
TZNAME:EST
DTSTART:20261101T060000
END:STANDARD
BEGIN:DAYLIGHT
TZOFFSETFROM:-0500
TZOFFSETTO:-0400
TZNAME:EDT
DTSTART:20270314T070000
END:DAYLIGHT
BEGIN:STANDARD
TZOFFSETFROM:-0400
TZOFFSETTO:-0500
TZNAME:EST
DTSTART:20271107T060000
END:STANDARD
END:VTIMEZONE
BEGIN:VEVENT
DTSTART;TZID=America/New_York:20261115T150000
DTEND;TZID=America/New_York:20261115T170000
DTSTAMP:20260421T121343
CREATED:20250520T203822Z
LAST-MODIFIED:20260202T212207Z
UID:1079-1794754800-1794762000@allentownband.com
SUMMARY:Americans We Salute to Veterans / Holiday Concert
DESCRIPTION:Annual Tribute to Veterans and Holiday Concert. Observing Veterans Day and welcoming the coming holiday season. \nNOTE: Tickets Available AFTER August 1\, 2026 \n  \n\n  \nAmericans We Tribute to Veterans Holiday Concert\, November 15\, 2025\, Miller Symphony Hall\nhttps://millersymphonyhall.org/event/americans-we-tribute-to-veterans-holiday-concert-2/\n\n\n 
URL:https://allentownband.com/event/americans-we-salute-to-veterans-holiday-concert/
LOCATION:Miller Symphony Hall\, 23 N. Sixth Street\, Allentown\, PA\, 18101\, United States
CATEGORIES:Miller Symphony Hall
ATTACH;FMTTYPE=image/png:https://allentownband.com/wp-content/uploads/2025/05/MSH-AmericansWe.png
END:VEVENT
END:VCALENDAR